BEGIN:VCALENDAR
VERSION:2.0
PRODID:-//Inga Häusermann - ECPv6.15.20//NONSGML v1.0//EN
CALSCALE:GREGORIAN
METHOD:PUBLISH
X-WR-CALNAME:Inga Häusermann
X-ORIGINAL-URL:https://ingah.ch
X-WR-CALDESC:Veranstaltungen im Inga Häusermann
REFRESH-INTERVAL;VALUE=DURATION:PT1H
X-Robots-Tag:noindex
X-PUBLISHED-TTL:PT1H
BEGIN:VTIMEZONE
TZID:Europe/Zurich
BEGIN:DAYLIGHT
TZOFFSETFROM:+0100
TZOFFSETTO:+0200
TZNAME:CEST
DTSTART:20240331T010000
END:DAYLIGHT
BEGIN:STANDARD
TZOFFSETFROM:+0200
TZOFFSETTO:+0100
TZNAME:CET
DTSTART:20241027T010000
END:STANDARD
BEGIN:DAYLIGHT
TZOFFSETFROM:+0100
TZOFFSETTO:+0200
TZNAME:CEST
DTSTART:20250330T010000
END:DAYLIGHT
BEGIN:STANDARD
TZOFFSETFROM:+0200
TZOFFSETTO:+0100
TZNAME:CET
DTSTART:20251026T010000
END:STANDARD
BEGIN:DAYLIGHT
TZOFFSETFROM:+0100
TZOFFSETTO:+0200
TZNAME:CEST
DTSTART:20260329T010000
END:DAYLIGHT
BEGIN:STANDARD
TZOFFSETFROM:+0200
TZOFFSETTO:+0100
TZNAME:CET
DTSTART:20261025T010000
END:STANDARD
END:VTIMEZONE
BEGIN:VEVENT
DTSTART;TZID=Europe/Zurich:20250615T170000
DTEND;TZID=Europe/Zurich:20250615T210000
DTSTAMP:20260422T100120
CREATED:20250603T162437Z
LAST-MODIFIED:20250603T162630Z
UID:1152-1750006800-1750021200@ingah.ch
SUMMARY:PERFECT SUNDAY 13
DESCRIPTION:PERFECT SUNDAY 13CD-Taufe «INSOMNIA»\nBevor Inga Häusermann ihren Weg als bildende Künstlerin eingeschlagen hat\, war sie auch musikalisch unterwegs und spielte intensiv Geige und Klavier. Ausserdem hat sie schon immer Texte geschrieben\, die zum Teil auch in ihre Ausstellungen eingeflossen sind.Als sie vor rund drei Jahren die Sängerin und Songschreiberin Paquita Maria kennenlernte\, entstand schliesslich die Idee\, an gemeinsamen Liedern zu arbeiten. Das Ergebnis war eine LP unter dem Namen MAZIN\, an der auch die beiden Bieler Musiker Beni Weber und Andy Marti mitgewirkt haben. \nFür Inga war dies ein Wiedereinstieg in die Musik und letztlich die Motivation\, ein eigenes Projekt in Angriff zu nehmen\, Texte zu schreiben und einzusingen\, die Musik zu komponieren und sich selbst am Piano zu begleiten.Die nun erschienene CD INSOMNIA vereint zwölf Lieder und sechs Klavierimprovisationen voller Geheimnis und Poesie\, die einen ganz eigenen Sog entfalten\, und in denen Ingas Bildsprache und Sprachbilder zu einer einzigartigen Klangwelt verschmelzen. \nEin wunderbar gestaltetes Booklet\, in dem Ingas Texte ihren Zeichnungen und Malereien gegenübergestellt sind\, macht die CD zu einem kleinen\, aber feinen Gesamtkunstwerk. \nWir freuen uns auf Euren Besuch und verbleiben bis dahin mit herzlichem GrussChristian Denzler
URL:https://ingah.ch/event/perfect-sunday-13/
LOCATION:MAGAZIN\, Schwanengasse 52\, Biel/Bienne\, 2503\, Switzerland
CATEGORIES:MAGAZIN
ATTACH;FMTTYPE=image/webp:https://ingah.ch/wp-content/uploads/2025/06/perfect-sunday-13.webp
END:VEVENT
END:VCALENDAR