BEGIN:VCALENDAR
VERSION:2.0
PRODID:-//Inga Häusermann - ECPv6.15.20//NONSGML v1.0//EN
CALSCALE:GREGORIAN
METHOD:PUBLISH
X-WR-CALNAME:Inga Häusermann
X-ORIGINAL-URL:https://ingah.ch
X-WR-CALDESC:Veranstaltungen im Inga Häusermann
REFRESH-INTERVAL;VALUE=DURATION:PT1H
X-Robots-Tag:noindex
X-PUBLISHED-TTL:PT1H
BEGIN:VTIMEZONE
TZID:Europe/Zurich
BEGIN:DAYLIGHT
TZOFFSETFROM:+0100
TZOFFSETTO:+0200
TZNAME:CEST
DTSTART:20240331T010000
END:DAYLIGHT
BEGIN:STANDARD
TZOFFSETFROM:+0200
TZOFFSETTO:+0100
TZNAME:CET
DTSTART:20241027T010000
END:STANDARD
BEGIN:DAYLIGHT
TZOFFSETFROM:+0100
TZOFFSETTO:+0200
TZNAME:CEST
DTSTART:20250330T010000
END:DAYLIGHT
BEGIN:STANDARD
TZOFFSETFROM:+0200
TZOFFSETTO:+0100
TZNAME:CET
DTSTART:20251026T010000
END:STANDARD
BEGIN:DAYLIGHT
TZOFFSETFROM:+0100
TZOFFSETTO:+0200
TZNAME:CEST
DTSTART:20260329T010000
END:DAYLIGHT
BEGIN:STANDARD
TZOFFSETFROM:+0200
TZOFFSETTO:+0100
TZNAME:CET
DTSTART:20261025T010000
END:STANDARD
BEGIN:DAYLIGHT
TZOFFSETFROM:+0100
TZOFFSETTO:+0200
TZNAME:CEST
DTSTART:20270328T010000
END:DAYLIGHT
BEGIN:STANDARD
TZOFFSETFROM:+0200
TZOFFSETTO:+0100
TZNAME:CET
DTSTART:20271031T010000
END:STANDARD
END:VTIMEZONE
BEGIN:VEVENT
DTSTART;TZID=Europe/Zurich:20250206T193000
DTEND;TZID=Europe/Zurich:20250212T153000
DTSTAMP:20260423T000201
CREATED:20250131T152002Z
LAST-MODIFIED:20250207T142422Z
UID:1097-1738870200-1739374200@ingah.ch
SUMMARY:VULNERABLE Ausstellung\, lokal-int
DESCRIPTION:VULNERABLE\nINGA HÄUSERMANN IM LOKAL-INT IN BIEL / BIENNE\nHANS-HUGISTRASSE 3\, 2503 BIEL (ZWEI MINUTEN VOM BAHNHOF)\nVernissage: Donnerstag 6. Februar ab 19.30\n(Anschliessend ist die Ausstellung für ein paar Tage durch die Schaufenster einsehbar oder ihr könnt mit mir auch einen Termin vereinbaren unter 079 773 11 16.\nIch freue mich\, euch zu meiner nächsten Ausstellung im Lokal-Int in Biel einzuladen.\nHerzlich\nInga Häusermann
URL:https://ingah.ch/event/vulnerable/
LOCATION:Lokal-Int. Biel/Bienne\, Hans-Hugistrasse 3\, Biel-Biennne\, 2502\, Switzerland
CATEGORIES:Ausstellung
ATTACH;FMTTYPE=image/webp:https://ingah.ch/wp-content/uploads/2025/01/vulnerable.webp
END:VEVENT
BEGIN:VEVENT
DTSTART;VALUE=DATE:20250308
DTEND;VALUE=DATE:20250413
DTSTAMP:20260423T000201
CREATED:20250226T080111Z
LAST-MODIFIED:20250226T081818Z
UID:1110-1741392000-1744502399@ingah.ch
SUMMARY:INSOMNIA · Ausstellung\, Galerie DuflonRacz
DESCRIPTION:INSOMNIA\nINGA HÄUSERMANN\nGALERIE DUFLONRACZ\, Gerechtigkeitsgasse 40\, 3011 Bern\nVernissage: Montag 7. März\, 17.00 – 21.00 Uhr\nVersehrt\, geschunden\, gebrochen.\nVerstört\, verloren\, das letzte Fleisch von den Knochen gerissen liegen sie da.\nAuf einer Schaukel im Hintergrund der Szenerie sitzt eine Gruppe von Kreaturen. Sie sitzen nur – ohne etwas erzählen zu wollen. Aus der Ferne ist von Zeit zu Zeit eine Melodie zu hören\, wie das feine Zittern von Schmetterlingsflügeln. \nInga Häusermann interessiert sich in ihrer Arbeit Insomnia für Möglichkeiten der bewussten Integration des unabwendbaren Verhängnisses. Damit taucht sie vertieft in ihr Thema der Vergänglichkeit und des Transzendenten ein und gibt dem Betrachter Einblick in ein kleines grosses Welttheater. \nWährend seit zehn Jahren nebst ihrem Schwerpunkt der Zeichnung und Malerei auch Skulptur und Text vermehrt in die Ausstellungen miteinfliessen\, bindet sie nun erstmals auch eine eigene Komposition in ihre Installation ein.\nAm 5. April stellt sie ihr Album Insomnia vor (CD-Release)\, in dem sie u.a. ihre Texte musikalisch umsetzt (listening in the presence of the artist).\nFür den 15. März konnte sie ausserdem den Musiker Beni Weber und Christian Denzler für eine erste musikalische Lesung aus seiner neuen Textsammlung Requiem gewinnen. \n(Die Künstlerin ist an den Samstagen 15.\, 22. und 29. März sowie 4. April nachmittags sowie an den Veranstaltungen in der Galerie anwesend)\nDuflonRacz\, ArtContemporain\, Gerechtigkeitsgasse 40\, 3011 Bern 031 311 42 62 / 079 423 75 50
URL:https://ingah.ch/event/insomnia-ausstellung/
LOCATION:Galerie DuflonRacz\, Gerechtigkeitsgasse 40\, Bern\, 3011\, Switzerland
CATEGORIES:Ausstellung
ATTACH;FMTTYPE=image/webp:https://ingah.ch/wp-content/uploads/2025/02/Insomnia-ausstellung.webp
END:VEVENT
BEGIN:VEVENT
DTSTART;TZID=Europe/Zurich:20250315T170000
DTEND;TZID=Europe/Zurich:20250315T190000
DTSTAMP:20260423T000201
CREATED:20250226T080818Z
LAST-MODIFIED:20250226T081727Z
UID:1117-1742058000-1742065200@ingah.ch
SUMMARY:REQUIEM · Musikalische Lesung
DESCRIPTION:MUSIKALISCHE LESUNG\naus der neuen Textsammlung «Requiem»\nvon Christian Denzler\, Musik: Beni Weber\nREQUIEM – Christian Denzler\nErste öffentliche musikalische Lesung des Werks mit Christian Denzler und Beni Weber \nEs ist bereits zum zweiten Mal\, dass sich Christian Denzler und Beni Weber in einem Projekt zusammengefunden haben\, in dem sich Denzlers Texte und Webers Musik vereinen.\nNach der Lesereihe des «Birkenhains»\, der vor zwei Jahren im Atomiumverlag als Hörbuch erschienen ist (www.atomiumverlag.ch)\, liest Denzler diesmal aus seiner neuen Textsammlung «Requiem».\nIch durfte die Entstehung des Werkes eng begleiten und war fasziniert zu sehen\, wie wir uns in unserer Arbeit beide unabhängig voneinander immer mehr in die Grenzbereiche des Existentiellen hineinbewegen. Daher wurde mir rasch klar\, dass ich das Duo Denzler/Weber unbedingt im Rahmen meiner Ausstellung INSOMNIA einladen möchte und bin gespannt\, wie die beiden den Blick auf meine Ausstellung zu erweitern vermögen.\nIch durfte bereits in Probeaufnahmen reinhören und es hat mich erschüttert und beglückt gleichermassen. Denzler kommt in Monologen dem Leben in existentiellster Weise auf die Spur und es ist\, als würden die Farfisaklänge diese wiegen\, sie einbetten und ihnen gleichzeitig Raum lassen\, wie es nur ein Beni kann. \nDuflonRacz\, ArtContemporain\, Gerechtigkeitsgasse 40\, 3011 Bern 031 311 42 62 / 079 423 75 50
URL:https://ingah.ch/event/requiem-musikalische-lesung/
LOCATION:Galerie DuflonRacz\, Gerechtigkeitsgasse 40\, Bern\, 3011\, Switzerland
CATEGORIES:Event
ATTACH;FMTTYPE=image/webp:https://ingah.ch/wp-content/uploads/2025/02/Requiem.webp
END:VEVENT
BEGIN:VEVENT
DTSTART;TZID=Europe/Zurich:20250405T170000
DTEND;TZID=Europe/Zurich:20250405T190000
DTSTAMP:20260423T000201
CREATED:20250226T081613Z
LAST-MODIFIED:20250226T081800Z
UID:1123-1743872400-1743879600@ingah.ch
SUMMARY:INSOMNIA · CD-Taufe
DESCRIPTION:INSOMNIA · CD-Taufe\nmusikalisch umgesetzte Texte und Improvisationen\nvon Inga Häusermann\n(listening in the presence oft the artist) \nÜber Freundschaften mit Bieler Musikerinnen und Musikern ist mir die Musik\, die ich seit meiner Jugend ad acta gelegt zu haben glaubte\, so unverhofft wieder ins Zentrum gerückt\, dass ich plötzlich wieder selber am Piano sass\, mich im Album Mazin einbrachte und Sounds zu entwickeln begann. Immer mehr hineingezogen von Ideen eigener Kompositionen wurden diese immer charakteristischer und ich merkte\, dass ich auf der Spur einer mir eigenen Sprache war\, die sich wiederum mit meiner Kunst und meinem Schreiben verband. Ein Wunsch\, den ich bereits in meiner Jugend verspürt hatte\, als ich am liebsten die bildende Kunst\, das Schreiben\, die Musik und Regie vereint hätte.\nDaraus entstanden ist ein intimes Ensemble von Liedern\, Instrumental- und Sprechstücken\, die schwergewichtig von eigenen Texten in deutsch und französisch ausgehen.\nIch habe bereits in früheren Ausstellungen Text und Bild/Skulptur befruchtend kombiniert und dieses Mal für mein Booklet nach eigenen Bildern oder Bildausschnitten gesucht\, die zusammen mit den Texten und der Musik eine sich gegenseitig stimulierende Ganzheit bilden. Das ist auch der Grund\, warum meine Plattentaufe im Rahmen meiner gleichnamigen Ausstellung INSOMNIA stattfinden soll\, in die ebenso eines meiner Instrumentalstücke integriert ist.\nGemeinsam mit Beni Weber (Musiker bei Puts Marie\, Superschurken\, in diversen Formationen der freien Musik\, des Rocks und Punks) sowie Simon Ho (Komponist und Pianist\, Bern/Brüssel) arbeitete ich an den Kompositionen weiter\, um die Atmosphäre der im Atelier mit einfachsten Mitteln erzeugten Stücke im Studio auch mit technischen Mitteln möglichst stimmig zu gestalten. Das Album erscheint in einer kleinen\, aber feinen Auflage und besteht aus achtzehn Titeln.\nIch freue mich\, gemeinsam mit euch ins Album reinzuhören und auf meine ersten eigenen Versuche anzustossen! \nDuflonRacz\, ArtContemporain\, Gerechtigkeitsgasse 40\, 3011 Bern 031 311 42 62 / 079 423 75 50
URL:https://ingah.ch/event/insomnia-cd-taufe/
LOCATION:Galerie DuflonRacz\, Gerechtigkeitsgasse 40\, Bern\, 3011\, Switzerland
CATEGORIES:Event
ATTACH;FMTTYPE=image/jpeg:https://ingah.ch/wp-content/uploads/2025/02/Inga_Insomnia_Kartoncover.jpg
END:VEVENT
BEGIN:VEVENT
DTSTART;TZID=Europe/Zurich:20250406T170000
DTEND;TZID=Europe/Zurich:20250406T210000
DTSTAMP:20260423T000201
CREATED:20250307T110619Z
LAST-MODIFIED:20250313T152450Z
UID:1133-1743958800-1743973200@ingah.ch
SUMMARY:PERFECT SUNDAY 11
DESCRIPTION:PERFECT SUNDAY 11\nKonzert 18 Uhr\nHAMMAD/WEBER/KOLB \nGerne kündigen wir euch unseren nächsten Anlass mit der Band Hammad/Weber/Kolb an. \nWir sind von der unglaublichen Kombo ebenso begeistert\, wie es bereits der Musikkritiker Ruedi Amstutz vor einem Jahr bei ihrem ersten gemeinsamen Act anlässlich des Triofestivals im Le Singe in Biel fürs Musikmagazin Jazz’n’more beschrieb:\n«Als musikalische Offenbarung stellte sich der Auftritt eines neuen Bieler Trios heraus. Die Singer-Songwriterin Maryam Hammad\, eigentlich Sängerin der Band Waldskin\, stellte speziell für das Festival eine neue Formation zusammen. Gemeinsam mit Schlagzeuger Beni Weber und Bassist Mats Kolb führte und verführte sie das Publikum in ihren ganz eigenen Klangkosmos. Die Songs\, die zu Beginn Folk – oder Americana-Anleihen erahnen liessen\, steigerten sich in der Folge zunehmend und wurden von diesem fulminanten Trio mit viel Experimentierlust seziert und dekonstruiert. In dynamischen Wellenbewegungen wurden die englischen und berndeutschen\, vom Blues beseelten Texte der stimmgewaltigen Sängerin und Gitarristin musikalisch in höhere Sphären erhoben. Man fühlte sich an «Sister Ray» von Velvet Underground erinnert\, an die frühen Bad Seeds von Nick Cave\, an Punk\, Avantgarde\, an Captain Beefheart oder Fiona Apple. Der Referenzen waren viele und doch schaffte es Hammad\, diese unzähligen Einflüsse zu einem ganz eigenen Sound zu verwandeln. Bleibt einzig die Hoffnung\, dass dieser Auftritt nicht einmalig gewesen ist.» \nUnd wie ihr seht\, ist er das nicht. Wir hatten das Glück\, die drei inzwischen an zwei weiteren Konzerten zu hören und sind unglaublich beeindruckt. Diese Kraft\, diese Nuancen von Hammads Stimme überwältigt und im Sound\, den die drei kreieren\, spürt man als Zuhörer\, wie sich die Musiker im gemeinsamen Spiel gegenseitig dazu anstacheln\, inspirieren\, um völlig über sich selbst hinauszuwachsen. Unsere grosse Empfehlung! \nWir freuen uns auf euch\nHerzlich\nInga Häusermann & Christian Denzler
URL:https://ingah.ch/event/perfect-sunday-11/
LOCATION:MAGAZIN\, Schwanengasse 52\, Biel/Bienne\, 2503\, Switzerland
CATEGORIES:MAGAZIN
ATTACH;FMTTYPE=image/webp:https://ingah.ch/wp-content/uploads/2025/03/MAGAZIN_11.webp
END:VEVENT
BEGIN:VEVENT
DTSTART;TZID=Europe/Zurich:20250511T170000
DTEND;TZID=Europe/Zurich:20250511T210000
DTSTAMP:20260423T000201
CREATED:20250430T123343Z
LAST-MODIFIED:20250430T124536Z
UID:1144-1746982800-1746997200@ingah.ch
SUMMARY:PERFECT SUNDAY 12
DESCRIPTION:PERFECT SUNDAY 12\nMusikalische Lesung mit Kollekte 18 Uhr\nCHRISTIAN DENZLER / BENI WEBER\nCHRISTIAN DENZLER wird aus seinen neusten Manuskript REQUIEM vorlesen\, musikalisch begleitet von BENI WEBER an der Farfisa. \nBeim REQUIEM handelt es sich um eine (stetig anwachsende) Sammlung von Prosatexten\, die aus unterschiedlichsten Perspektiven auf gelebte und gelebtes Leben zurückblicken und mit schonungsloser Offenheit Gefühle wie Trauer\, Hoffnung und Enttäuschung\, Bitterkeit und Dankbarkeit umkreisen. Eine Art Kaleidoskop aus anonymen Stimmen\, die sich in ihrem Zusammenspiel zu einem vielschichtigen Blick auf das menschliche Dasein fügen. \nIch hoffe\, gemeinsam mit möglichst vielen von Euch diesen Abend verbringen zu können! \nWir freuen uns auf euch\nHerzlich\nInga Häusermann
URL:https://ingah.ch/event/perfect-sunday-12/
LOCATION:MAGAZIN\, Schwanengasse 52\, Biel/Bienne\, 2503\, Switzerland
CATEGORIES:MAGAZIN
ATTACH;FMTTYPE=image/webp:https://ingah.ch/wp-content/uploads/2025/04/perfect-sunday-12-1.webp
END:VEVENT
BEGIN:VEVENT
DTSTART;TZID=Europe/Zurich:20250615T170000
DTEND;TZID=Europe/Zurich:20250615T210000
DTSTAMP:20260423T000201
CREATED:20250603T162437Z
LAST-MODIFIED:20250603T162630Z
UID:1152-1750006800-1750021200@ingah.ch
SUMMARY:PERFECT SUNDAY 13
DESCRIPTION:PERFECT SUNDAY 13CD-Taufe «INSOMNIA»\nBevor Inga Häusermann ihren Weg als bildende Künstlerin eingeschlagen hat\, war sie auch musikalisch unterwegs und spielte intensiv Geige und Klavier. Ausserdem hat sie schon immer Texte geschrieben\, die zum Teil auch in ihre Ausstellungen eingeflossen sind.Als sie vor rund drei Jahren die Sängerin und Songschreiberin Paquita Maria kennenlernte\, entstand schliesslich die Idee\, an gemeinsamen Liedern zu arbeiten. Das Ergebnis war eine LP unter dem Namen MAZIN\, an der auch die beiden Bieler Musiker Beni Weber und Andy Marti mitgewirkt haben. \nFür Inga war dies ein Wiedereinstieg in die Musik und letztlich die Motivation\, ein eigenes Projekt in Angriff zu nehmen\, Texte zu schreiben und einzusingen\, die Musik zu komponieren und sich selbst am Piano zu begleiten.Die nun erschienene CD INSOMNIA vereint zwölf Lieder und sechs Klavierimprovisationen voller Geheimnis und Poesie\, die einen ganz eigenen Sog entfalten\, und in denen Ingas Bildsprache und Sprachbilder zu einer einzigartigen Klangwelt verschmelzen. \nEin wunderbar gestaltetes Booklet\, in dem Ingas Texte ihren Zeichnungen und Malereien gegenübergestellt sind\, macht die CD zu einem kleinen\, aber feinen Gesamtkunstwerk. \nWir freuen uns auf Euren Besuch und verbleiben bis dahin mit herzlichem GrussChristian Denzler
URL:https://ingah.ch/event/perfect-sunday-13/
LOCATION:MAGAZIN\, Schwanengasse 52\, Biel/Bienne\, 2503\, Switzerland
CATEGORIES:MAGAZIN
ATTACH;FMTTYPE=image/webp:https://ingah.ch/wp-content/uploads/2025/06/perfect-sunday-13.webp
END:VEVENT
BEGIN:VEVENT
DTSTART;TZID=Europe/Zurich:20251005T170000
DTEND;TZID=Europe/Zurich:20251005T210000
DTSTAMP:20260423T000201
CREATED:20250922T145148Z
LAST-MODIFIED:20250922T145324Z
UID:1159-1759683600-1759698000@ingah.ch
SUMMARY:PERFECT SUNDAY 14
DESCRIPTION:SCHÖNI EDELWYSSSTÄRNE\nChristine Lauterburg juzzt und singt Traditionelles und Eigenes.\nSie begleitet sich mit Örgeli\, Violine\, Viola\, Sansula\, Löffeln\, Marshall und hebt den Juzz ab und zu in luftige Höhen. \nWir freuen uns sehr\, euch zum Perfect Sunday 14 mit der einzigartigen Sängerin und Musikerin Christine Lauterburg einzuladen. Neben ihrem ergreifenden Gesang und ihrer Multiinstrumentalität hat sie auch die traditionelle Welt des Jodelns und der mit ihr verbundenen\, klaren Prinzipien getreuen Musik kräftig durcheinandergeschüttelt und unbeirrt nach neuen\, ihr eigenen Pfaden gesucht. Immer ist sie ihren Weg gegangen und hat sich nie davon abbringen lassen. Und so ist sie wie eine seltene Alpenblume in zerklüftetem Gebirge\, wie Dänu Wisler es schön formuliert\, hinter dem der Abgrund wartet: unerreicht\, verletzlich\, zäh. Ihre Lieder können schwermütig sein\, aber in ihrer Stimme ist man aufgehoben\, getragen\, sie lässt einen gar schweben über den Abgrund hinaus\, auch über jenen der eigenen Seele. Der Duft ihrer Musik sei voller Sehnsucht nach Leichtigkeit und\, allem zum Trotz\, voller Hoffnung\, so dass man für immer darin schweben möchte. \nIhre Stimme transportiert das Leben mit all seinen Höhenflügen und Falltüren mitten auf die Bühne. Verletzlich und leise\, aber auch dramatisch und resolut. Sie lässt uns spüren\, dass Glück und Schmerz im Leben sehr nahe beieinander liegen\, und es niemals eine Sicherheit gibt\, ausser vielleicht im unmittelbaren Moment. \nEinige von euch kennen sie vielleicht noch aus den Neunzigerjahren mit ihrem Album «Echo der Zeit»\, das wir damals rauf und runter hörten. Diesmal kommt sie ganz allein mit ihrem Juzz\, ihren Instrumenten und ihrem einzigartigen Charisma und zeigt Eigenkreationen in Verbindung mit traditionellen Elementen auf ihre von Lebensfreude und Eigensinn\, Schwermut und Ausgelassenheit geprägte wundervolle Art. \nWir freuen uns auf euch! \nHerzlich \nInga Häusermann & Christian Denzler \n\nUnd noch zum Vormerken:\nAm 19. Oktober kommt die dänische Schriftstellerin und Künstlerin Madame Nielsen mit ihrem neuen Buch wieder zu uns (deutschsprachig). Eine grosse Empfehlung! Weitere Infos folgen in Kürze.
URL:https://ingah.ch/event/perfect-sunday-14/
LOCATION:MAGAZIN\, Schwanengasse 52\, Biel/Bienne\, 2503\, Switzerland
CATEGORIES:MAGAZIN
ATTACH;FMTTYPE=image/jpeg:https://ingah.ch/wp-content/uploads/2025/09/perfect-sunday-15.jpg
END:VEVENT
BEGIN:VEVENT
DTSTART;TZID=Europe/Zurich:20251214T170000
DTEND;TZID=Europe/Zurich:20251214T210000
DTSTAMP:20260423T000201
CREATED:20251201T152106Z
LAST-MODIFIED:20251201T152708Z
UID:1166-1765731600-1765746000@ingah.ch
SUMMARY:PERFECT SUNDAY 15
DESCRIPTION:CHRISTIAN DENZLER & INGA HÄUSERMANN\nGEDICHTE UND IMPROVISATIONEN\nLiebe Freundinnen und Freunde des MAGAZINS \nNeben unserer musikalischen und literarischen Darbietung gibt es aus Anlass des fünfzehnten Perfect Sundays eine eigens dafür geschaffene fünfzigteilige Installation unter dem schönen Titel Schwanensee zu bestaunen. Die einzelnen Werke von hohem ästhetischem Reiz sind zu einem Preis von mehr oder weniger fünfzig Franken käuflich erwerbbar und sollen dazu dienen\, den Negativgewinn unserer Anlässe in einem schöneren Licht erscheinen zu lassen. \nWir hoffen deshalb auf Euer zahlreiches Erscheinen und freuen uns darauf\, Euch wie gewohnt bewirten zu dürfen \nInga Häusermann & Christian Denzler \n\nVorschau: Am 25. Januar 2026 spielt bei uns Henry Love zusammen mit Meta Marielouise. Unsere grosse Empfehlung!\n(Weitere Infos folgen) \nAusserdem ist in unserem Atomiumverlag die neue CD Diary von Simon Ho erschienen. Unbedingt auf www.atomiumverlag.ch reinhören!
URL:https://ingah.ch/event/perfect-sunday-15/
LOCATION:MAGAZIN\, Schwanengasse 52\, Biel/Bienne\, 2503\, Switzerland
CATEGORIES:MAGAZIN
ATTACH;FMTTYPE=image/webp:https://ingah.ch/wp-content/uploads/2025/12/perfect-sunday-15a.webp
END:VEVENT
BEGIN:VEVENT
DTSTART;VALUE=DATE:20260301
DTEND;VALUE=DATE:20260902
DTSTAMP:20260423T000201
CREATED:20250313T151028Z
LAST-MODIFIED:20260414T143137Z
UID:1137-1772323200-1788307199@ingah.ch
SUMMARY:INSOMNIA · CD reinhören und bestellen
DESCRIPTION:INSOMNIA\nINGA HÄUSERMANN\nMehr darüber erfahren / reinhören / bestellen >
URL:https://ingah.ch/event/insomnia-ausstellung-cd/
ATTACH;FMTTYPE=image/jpeg:https://ingah.ch/wp-content/uploads/2025/02/Inga_Insomnia_Kartoncover.jpg
END:VEVENT
BEGIN:VEVENT
DTSTART;TZID=Europe/Zurich:20260301T170000
DTEND;TZID=Europe/Zurich:20260301T210000
DTSTAMP:20260423T000201
CREATED:20260324T120357Z
LAST-MODIFIED:20260324T130629Z
UID:1178-1772384400-1772398800@ingah.ch
SUMMARY:PERFECT SUNDAY 16
DESCRIPTION:META MARIE LOUISE\nFEAT. HENRY LOVE\nLiebe Freunde und Freundinnen des Magazins \nWer den denkwürdigen Auftritt des unvergleichlichen Henry Love mit den kongenialen Musikern Manuel Engel und Kevin Chesham von Meta Marie Louise im letzten Sommer in der Gurzelen verpasst hat\, darf jetzt laut aufjubeln und Luftsprünge machen! \nDie drei spielen am 1. März 2026 bei uns noch einmal gross auf. Ein Festschmaus für Gourmets und Gourmands! \nWir freuen uns auf Euch \nInga Häusermann & Christian Denzler
URL:https://ingah.ch/event/perfect-sunday-16/
LOCATION:MAGAZIN\, Schwanengasse 52\, Biel/Bienne\, 2503\, Switzerland
CATEGORIES:MAGAZIN
ATTACH;FMTTYPE=image/webp:https://ingah.ch/wp-content/uploads/2026/03/pefect-sunday-16.webp
END:VEVENT
BEGIN:VEVENT
DTSTART;TZID=Europe/Zurich:20260329T170000
DTEND;TZID=Europe/Zurich:20260329T210000
DTSTAMP:20260423T000201
CREATED:20260324T110309Z
LAST-MODIFIED:20260324T110328Z
UID:1172-1774803600-1774818000@ingah.ch
SUMMARY:PERFECT SUNDAY 17
DESCRIPTION:DIE FANTASTISCHE MADAME NIELSEN IST ZURÜCK\n\nLiebe Freundinnen und Freunde des MAGAZINS \nVor eineinhalb Jahren haben wir mit der einzigartigen dänischen Autorin und Künstlerin Madame Nielsen einen wunderbar literarisch und musikalisch-performativ beglückenden Abend hier im MAGAZIN verbracht und wir freuen uns riesig\, dass sie anlässlich der Erscheinung ihres neuerschienenen Buches in zwei Wochen wieder bei uns sein wird. \nAuf der Suche nach dem «Deutschen»\, ist sie da ebenso dem zeitgenössischen Menschen auf der Spur\, so dass wir uns und unsere Welt stets darin wiederfinden können. So steigt die «grosse Wandlerin der Gegenwartsliteratur» mit dem Hausphilosophen der AfD hinab zu den Geistern der Vergangenheit\, trifft auf den wahren Wutbürger und unterhält sich mit der letzten wirklichen Diva über Leben und Tod «nicht um sie vorzuführen\, sondern sich\, getrieben von einer inneren Unersättlichkeit\, der Welt und ihren Verhärtungen schonungslos offen auszusetzen». Dabei sucht sie nicht nach starren Identitäten\, Ideen\, Kategorien\, erkundet vielmehr das Eigene in der Konfrontation mit dem\, was sie umgibt. \nWir freuen uns riesig auf ein Feuerwerk aus Sprache\, Gesang und Musik! Und wir sagen euch\, lasst euch diese Begegnung nicht entgehen! \nAuf bald\nherzlich\nChristian Denzler und Inga Häusermann
URL:https://ingah.ch/event/perfect-sunday-17/
LOCATION:MAGAZIN\, Schwanengasse 52\, Biel/Bienne\, 2503\, Switzerland
CATEGORIES:MAGAZIN
ATTACH;FMTTYPE=image/webp:https://ingah.ch/wp-content/uploads/2026/03/pefect-sunday-17.webp
END:VEVENT
END:VCALENDAR