BEGIN:VCALENDAR
VERSION:2.0
PRODID:-//Inga Häusermann - ECPv6.15.20//NONSGML v1.0//EN
CALSCALE:GREGORIAN
METHOD:PUBLISH
X-WR-CALNAME:Inga Häusermann
X-ORIGINAL-URL:https://ingah.ch
X-WR-CALDESC:Veranstaltungen im Inga Häusermann
REFRESH-INTERVAL;VALUE=DURATION:PT1H
X-Robots-Tag:noindex
X-PUBLISHED-TTL:PT1H
BEGIN:VTIMEZONE
TZID:Europe/Zurich
BEGIN:DAYLIGHT
TZOFFSETFROM:+0100
TZOFFSETTO:+0200
TZNAME:CEST
DTSTART:20240331T010000
END:DAYLIGHT
BEGIN:STANDARD
TZOFFSETFROM:+0200
TZOFFSETTO:+0100
TZNAME:CET
DTSTART:20241027T010000
END:STANDARD
BEGIN:DAYLIGHT
TZOFFSETFROM:+0100
TZOFFSETTO:+0200
TZNAME:CEST
DTSTART:20250330T010000
END:DAYLIGHT
BEGIN:STANDARD
TZOFFSETFROM:+0200
TZOFFSETTO:+0100
TZNAME:CET
DTSTART:20251026T010000
END:STANDARD
BEGIN:DAYLIGHT
TZOFFSETFROM:+0100
TZOFFSETTO:+0200
TZNAME:CEST
DTSTART:20260329T010000
END:DAYLIGHT
BEGIN:STANDARD
TZOFFSETFROM:+0200
TZOFFSETTO:+0100
TZNAME:CET
DTSTART:20261025T010000
END:STANDARD
END:VTIMEZONE
BEGIN:VEVENT
DTSTART;TZID=Europe/Zurich:20250119T170000
DTEND;TZID=Europe/Zurich:20250119T210000
DTSTAMP:20260422T193118
CREATED:20250116T094240Z
LAST-MODIFIED:20250116T094319Z
UID:1093-1737306000-1737320400@ingah.ch
SUMMARY:PERFECT SUNDAY 10
DESCRIPTION:PERFECT SUNDAY 10\nKonzert mit Kollekte 18 Uhr\nMETA MARIE LOUISE\n„Dir sit scho angers\, dir Bieler\, dräckiger\, frächer\, intensiver“\, kommentierte ein Zuhörer einmal ein Konzert der beiden Meta Marie Louise Musiker Manu Engel und Kevin Chesham. Und entsprechend meint das Bieler Tagblatt: „Sauber\, anständig gebügelt und lauwarm wird es nie. Abgehen tut es immer. Was sie dann genau spielen werden\, ist jedes Mal eine Überraschung. Auch für sie selbst.“ Bekannt für ihre krampflösende wie auch tonisierende Wirkung bewegen sie sich stets im Dazwischen\, zwischen den Genres\, zwischen den Tönen\, sind nicht recht einortbar\, aber stets höchst präsent im Augenblick. \nDas vielgestaltige und dichte Universum von Meta Marie Louise wird\, so viel kann man sagen\, sowohl von Blumentöpfen und Regenbögen wie auch von harschen Geräuschen und Ambient-Sounds gespeist\, die in groovegetriebene psychedelische Beats und Melodien münden. Eine Verschmelzung von Snoop Dogg und John Cage. Und spätestens dann fangen auch die steifsten Gäste zu tanzen an\, mindestens mit den Halsmuskeln. Weil sie vom Sound aufgesogen und mit einem Rhythmus im Körper wieder ausgespuckt werden. Auch wenn\, wie Chesham sagt\, bei Impro-Bands Groove ein No-Go ist\, Meta Marie Louise darf alles. Und sie tun es! \nMeta Marie Louise ist aber ebenso eine Hommage an die Frau im Himmel\, wie Manuel Engel es formuliert und damit seine Grossmutter meint\, die eben diesen Namen trug\, leider jedoch bereits vor seiner Geburt gestorben ist. \nSich selbst verorten die beiden Musiker Manuel Engel\, Synthesizer und Kevin Chesham\, drums\, zwischen Jungle Punk und Psychedelic. \nIhre Musik soll jedoch auch für abgestumpfte Synapsen heilsam sein\, intim und hypnotisierend\, einen unauslöschlichen Eindruck hinterlassen\, so richtig in die Knochen gehen\, mitreissen\, von enormer Kraft sein\, von der man nur immer noch mehr möchte\, die Avantgarde zurück in den Pop bringen und\, zumindest in der heutigen Zeit\, das Radikalste sein\, was die Avantgarde zu bieten hat. (Auszug aus der Vorschau) \nWir freuen uns auf euch\nHerzlich\nInga Häusermann & Christian Denzler
URL:https://ingah.ch/event/perfect-sunday-10/
LOCATION:MAGAZIN\, Schwanengasse 52\, Biel/Bienne\, 2503\, Switzerland
CATEGORIES:MAGAZIN
ATTACH;FMTTYPE=image/png:https://ingah.ch/wp-content/uploads/2025/01/EINLADUNG-MAGAZIN-19.1.25.png
END:VEVENT
END:VCALENDAR