BEGIN:VCALENDAR
VERSION:2.0
PRODID:-//Inga Häusermann - ECPv6.15.20//NONSGML v1.0//EN
CALSCALE:GREGORIAN
METHOD:PUBLISH
X-ORIGINAL-URL:https://ingah.ch
X-WR-CALDESC:Veranstaltungen im Inga Häusermann
REFRESH-INTERVAL;VALUE=DURATION:PT1H
X-Robots-Tag:noindex
X-PUBLISHED-TTL:PT1H
BEGIN:VTIMEZONE
TZID:Europe/Zurich
BEGIN:DAYLIGHT
TZOFFSETFROM:+0100
TZOFFSETTO:+0200
TZNAME:CEST
DTSTART:20230326T010000
END:DAYLIGHT
BEGIN:STANDARD
TZOFFSETFROM:+0200
TZOFFSETTO:+0100
TZNAME:CET
DTSTART:20231029T010000
END:STANDARD
BEGIN:DAYLIGHT
TZOFFSETFROM:+0100
TZOFFSETTO:+0200
TZNAME:CEST
DTSTART:20240331T010000
END:DAYLIGHT
BEGIN:STANDARD
TZOFFSETFROM:+0200
TZOFFSETTO:+0100
TZNAME:CET
DTSTART:20241027T010000
END:STANDARD
BEGIN:DAYLIGHT
TZOFFSETFROM:+0100
TZOFFSETTO:+0200
TZNAME:CEST
DTSTART:20250330T010000
END:DAYLIGHT
BEGIN:STANDARD
TZOFFSETFROM:+0200
TZOFFSETTO:+0100
TZNAME:CET
DTSTART:20251026T010000
END:STANDARD
END:VTIMEZONE
BEGIN:VEVENT
DTSTART;TZID=Europe/Zurich:20241027T170000
DTEND;TZID=Europe/Zurich:20241027T210000
DTSTAMP:20260423T000025
CREATED:20241026T093759Z
LAST-MODIFIED:20241026T093759Z
UID:1076-1730048400-1730062800@ingah.ch
SUMMARY:PERFECT SUNDAY 7
DESCRIPTION:PERFECT SUNDAY 7\nLesung mit Kollekte 18 Uhr\n«Die vielfach preisgekrönte dänische Ausnahmekünstlerin – Autorin\, Performerin\, Musikerin – Madame Nielsen lebt in ständiger Verwandlung. Ihre Arbeiten provozieren und bringen Überzeugungen ins Wanken» Vereinigte Bühnen Bozen\, 2024\nLiebe Freunde und Freundinnen vom MAGAZIN\nWir freuen uns sehr\, euch zu unserem nächsten Perfect-Sunday-Abend und der Performance der einzigartigen dänischen Künstlerin und Autorin MADAME NIELSEN einladen zu dürfen. Sie liest u.a. aus Der Welt&Zeitumfassende Ein-Satz und ihrem neuen Roman Mein Leben unter den Grossen und performt eigene Lieder am Piano.\n„Einem Menschen einen Namen zu geben\, ist eine gewaltige Angelegenheit – zugleich Gewaltakt und ein Akt der Schöpfung“ sagt Madame Nielsen\, die Künstlerin\, Musikerin und Schriftstellerin\, die früher unter dem Namen Claus-Beck Nielsen bekannt war\, und 1963 in Dänemark geboren wurde. Claus-Beck Nielsen durchlief keinen klassischen Bildungsweg\, war dafür aber ein eifriger Leser\, veröffentlichte später preisgekrönte Romane und unter dem Pseudonym Anders Claudius West auch Gedichte. 2001 wurde er für tot erklärt. Der namenlose Mensch\, der übrig blieb\, wurde zum Direktor eines Unternehmens namens Das Beckwerk ernannt und führte in dieser Eigenschaft ein Jahrzehnt lang verschiedene Experimente durch\, um herauszufinden\, was es bedeutet\, ohne eine ›Identität‹ zu leben – beziehungsweise ohne einen Namen und dessen Bürde.\nDer Namenlose lebte zwei Monate auf der Straße\, drei Monate in einem Lagerraum und übernahm schließlich die Wohnung und das Leben eines Semiotik-Professors im Forschungsurlaub. „Ein Jahr lang trug ich seine Kleidung\, seine Unterwäsche\, benutzte seinen Schreibtisch\, empfing seine Korrespondenz usw. Ich ging sogar für ihn wählen.“ Währenddessen schrieb der Namenlose weiter und befragte durch Sprache das ewig Unergründliche\, das wir Identität und Zugehörigkeit nennen. Publikationen wie Selvsmordsaktionen (Die Selbstmordmission\, 2005) und Store Satans Fald (Der Fall des großen Satans\, 2012) sind zugleich Autobiografie und Fiktion\, politisches Manifest und philosophische Abhandlung. Dichte Sätze erforschen das Wesen der Duplizität. Die Ich-Erzähler haben instabile Persönlichkeiten\, vielleicht sind sie der Autor selbst\, vielleicht aber auch nicht. Die Bücher spielen an verschiedenen Orten in der Welt und rufen uns dazu auf\, Nationalität und Demokratie in ihrer Begrenztheit zu erfassen – letztere vor allem dann\, wenn der Westen sie in andere Länder exportiert. Sowohl die Bücher als auch die Experimente von Das Beckwerk sind (möglicherweise) Formen der Konzeptkunst.\n2011 wurden Das Beckwerk und sein namenloser Direktor mit einer aufwändigen Beerdigung\, inspiriert von einem altrömischen Totenritual\, zur letzten Ruhe gebettet. Bald darauf erschien Beyond Identity\, ein Buch ohne Autor\, in dem das gesamte Das Beckwerk-Unterfangen dokumentiert ist.\nDanach geschah eine Weile nichts. „Ein Jahr lang trat ich nicht mehr öffentlich auf\, ich musste ein neues Leben\, eine neue Form der Kunst für mich finden. Es war ein sehr düsteres Jahr […]. Irgendwann zog ich das Kleid der Mutter meines Sohnes an. Ich dachte\, hey\, du bist nicht mehr der Jüngste\, ab jetzt wirst du nur noch ein dürrer Mann mittleren Alters sein\, und als Frau siehst du viel schöner aus! Seitdem bin ich Madame Nielsen\, und ich hoffe\, dass sich bis zu meinem Tod nichts mehr daran ändern wird.“\n2014 erschien Der endlose Sommer (dt. 2018). Der Roman erzählt von der Liebe einer Dänin zu einem sehr viel jüngeren portugiesischen Künstler. Die Sätze entfalten sich wie eine Symphonie\, voller funkelnder Details sehnen sie etwas herbei\, das keine endgültige Form annehmen will: „Ich möchte den Menschen als Potenzial begreifen\, ich will nicht der werden\, der ich in Wirklichkeit bin‹ oder der eine\, der ich sein will\, ich möchte so viele meiner Potenziale ausleben wie möglich.“\nText: Priya Basil (aus dem Berliner Künstlerprogramm\, 2019) \n„Mein Leben unter den Grossen“\n„…Dieser Roman mit seiner unnachahmlichen Mischung aus Hans Christian Andersen\, Samuel Beckett und Buster Keaton zementierte Madame Nielsens Ruf als eine der bedeutendsten dänischen Autorinnen der Gegenwart und war für den wichtigsten gesamtskandinavischen Literaturpreis nominiert. Im Lauf von zwölf skurrilen\, peinlichen\, ergreifenden\, ganz und gar unmöglichen und hinreißend zärtlichen Begegnungen formt sich allmählich das Bild eines dreizehnten Schriftstellers.“ \nWir freuen uns auf euch\nHerzlich\nInga Häusermann & Christian Denzler
URL:https://ingah.ch/event/perfect-sunday-7/
LOCATION:MAGAZIN\, Schwanengasse 52\, Biel/Bienne\, 2503\, Switzerland
CATEGORIES:MAGAZIN
ATTACH;FMTTYPE=image/png:https://ingah.ch/wp-content/uploads/2024/10/EINLADUNG-MAGAZIN-27.10.24.png
END:VEVENT
END:VCALENDAR