BEGIN:VCALENDAR
VERSION:2.0
PRODID:-//Inga Häusermann - ECPv6.15.20//NONSGML v1.0//EN
CALSCALE:GREGORIAN
METHOD:PUBLISH
X-WR-CALNAME:Inga Häusermann
X-ORIGINAL-URL:https://ingah.ch
X-WR-CALDESC:Veranstaltungen im Inga Häusermann
REFRESH-INTERVAL;VALUE=DURATION:PT1H
X-Robots-Tag:noindex
X-PUBLISHED-TTL:PT1H
BEGIN:VTIMEZONE
TZID:Europe/Zurich
BEGIN:DAYLIGHT
TZOFFSETFROM:+0100
TZOFFSETTO:+0200
TZNAME:CEST
DTSTART:20220327T010000
END:DAYLIGHT
BEGIN:STANDARD
TZOFFSETFROM:+0200
TZOFFSETTO:+0100
TZNAME:CET
DTSTART:20221030T010000
END:STANDARD
BEGIN:DAYLIGHT
TZOFFSETFROM:+0100
TZOFFSETTO:+0200
TZNAME:CEST
DTSTART:20230326T010000
END:DAYLIGHT
BEGIN:STANDARD
TZOFFSETFROM:+0200
TZOFFSETTO:+0100
TZNAME:CET
DTSTART:20231029T010000
END:STANDARD
BEGIN:DAYLIGHT
TZOFFSETFROM:+0100
TZOFFSETTO:+0200
TZNAME:CEST
DTSTART:20240331T010000
END:DAYLIGHT
BEGIN:STANDARD
TZOFFSETFROM:+0200
TZOFFSETTO:+0100
TZNAME:CET
DTSTART:20241027T010000
END:STANDARD
END:VTIMEZONE
BEGIN:VEVENT
DTSTART;VALUE=DATE:20231102
DTEND;VALUE=DATE:20231117
DTSTAMP:20260423T171853
CREATED:20230909T112332Z
LAST-MODIFIED:20231016T133800Z
UID:704-1698886800-1700096399@ingah.ch
SUMMARY:MAZIN LP RELEASE
DESCRIPTION:Konzertdaten:\n2. November 20.30 Uhr – Café Bar Mokka\, Thun\nKonzert MAZIN LP RELEASE (Obliecht / MAZIN)\nmit Paquita Maria\, Inga Häusermann\, Beni06\, Andi Marti\n9. November – 21.00 Uhr – Café Kairo\, Bern\nKonzert MAZIN LP RELEASE\nmit Paquita Maria\, Inga Häusermann\, Beni06\, Andi Marti\n\n10. November – 22.00 Uhr – Renée\, Basel\nKonzert MAZIN LP RELEASE\nmit Paquita Maria\, Inga Häusermann\, Beni06\, Andi Marti\n\n11. November – 20.30 Uhr – Chrämerhuus\, Langenthal\nKonzert MAZIN LP RELEASE\nmit Paquita Maria\, Inga Häusermann\, Beni06\, Andi Marti\n15. November – 21.00 Uhr – Atomic Café\, Biel/Bienne\nKonzert MAZIN LP RELEASE\nmit Paquita Maria\, Inga Häusermann\, Beni06\, Andi Marti
URL:https://ingah.ch/event/mazin-lp-release/
ATTACH;FMTTYPE=image/jpeg:https://ingah.ch/wp-content/uploads/2023/09/Mazin_Cover_print_03.jpg
END:VEVENT
END:VCALENDAR