BEGIN:VCALENDAR
VERSION:2.0
PRODID:-//Inga Häusermann - ECPv6.15.20//NONSGML v1.0//EN
CALSCALE:GREGORIAN
METHOD:PUBLISH
X-WR-CALNAME:Inga Häusermann
X-ORIGINAL-URL:https://ingah.ch
X-WR-CALDESC:Veranstaltungen im Inga Häusermann
REFRESH-INTERVAL;VALUE=DURATION:PT1H
X-Robots-Tag:noindex
X-PUBLISHED-TTL:PT1H
BEGIN:VTIMEZONE
TZID:Europe/Zurich
BEGIN:DAYLIGHT
TZOFFSETFROM:+0100
TZOFFSETTO:+0200
TZNAME:CEST
DTSTART:20220327T010000
END:DAYLIGHT
BEGIN:STANDARD
TZOFFSETFROM:+0200
TZOFFSETTO:+0100
TZNAME:CET
DTSTART:20221030T010000
END:STANDARD
BEGIN:DAYLIGHT
TZOFFSETFROM:+0100
TZOFFSETTO:+0200
TZNAME:CEST
DTSTART:20230326T010000
END:DAYLIGHT
BEGIN:STANDARD
TZOFFSETFROM:+0200
TZOFFSETTO:+0100
TZNAME:CET
DTSTART:20231029T010000
END:STANDARD
BEGIN:DAYLIGHT
TZOFFSETFROM:+0100
TZOFFSETTO:+0200
TZNAME:CEST
DTSTART:20240331T010000
END:DAYLIGHT
BEGIN:STANDARD
TZOFFSETFROM:+0200
TZOFFSETTO:+0100
TZNAME:CET
DTSTART:20241027T010000
END:STANDARD
END:VTIMEZONE
BEGIN:VEVENT
DTSTART;TZID=Europe/Zurich:20230910T170000
DTEND;TZID=Europe/Zurich:20230910T210000
DTSTAMP:20260423T202005
CREATED:20230909T054305Z
LAST-MODIFIED:20230921T041613Z
UID:659-1694365200-1694379600@ingah.ch
SUMMARY:PERFECT SUNDAY
DESCRIPTION:PERFECT SUNDAY\n18 Uhr Konzert mit Kollekte\nTraffic Suite für zwei Pianos\nSimon Ho und André Dubois\nWir freuen uns\nInga Häusermann & Christian Denzler
URL:https://ingah.ch/event/magazin-10-9/
LOCATION:MAGAZIN\, Schwanengasse 52\, Biel/Bienne\, 2503\, Switzerland
CATEGORIES:MAGAZIN
ATTACH;FMTTYPE=image/jpeg:https://ingah.ch/wp-content/uploads/2023/09/magazin_01.jpg
END:VEVENT
END:VCALENDAR